{"text_format":"3","workbook":"xlsx","n_sheets":1,"sheets":["Sheet1"],"not_rendered":{"external_links":1,"defined_names":1},"read":"whole","date_system":"1900"}

{"sheet":"Sheet1","index":0,"n_rows":27,"n_cols":12,"rows_kept":27,"merged":[[0,0,0,1],[1,0,1,11]]}
["附件"]
["广州市花都区教育局2024年第二次公开招聘公办学校编制教师拟聘用人员名单（第二批）"]
["序号","招聘单位","招聘\n岗位","岗位代码","姓名","准考证号","报考专业","报考学历","报考学位","专业技术职称","毕业院校","备注"]
[1,"广州市花都区\n秀全中学","高中数学教师","B005","刘雪梅",20240717405,"基础数学",{"$f":"VLOOKUP(E4,[1]Sheet1!$A:$T,19,0)","v":"硕士研究生"},{"$f":"VLOOKUP(E4,[1]Sheet1!$A:$T,20,0)","v":"硕士学位"},"\\","华南理工大学"]
[2,"广州市花都区邝维煜纪念中学","高中物理教师","B014","朱俊玮",20241121006,"学科教学（物理）",{"$f":"VLOOKUP(E5,[1]Sheet1!$A:$T,19,0)","v":"硕士研究生"},{"$f":"VLOOKUP(E5,[1]Sheet1!$A:$T,20,0)","v":"硕士学位"},"\\","湖南工业大学"]
[3,"广州市花都区\n圆玄中学","高中语文教师","B022","李晓昀",20240516638,"汉语国际教育硕士",{"$f":"VLOOKUP(E6,[1]Sheet1!$A:$T,19,0)","v":"硕士研究生"},{"$f":"VLOOKUP(E6,[1]Sheet1!$A:$T,20,0)","v":"硕士学位"},"\\","山东师范大学"]
[4,"广州市花都区职业技术学校","高中数学教师","B040","刘玮",20240920910,"数学及教学",{"$f":"VLOOKUP(E7,[1]Sheet1!$A:$T,19,0)","v":"硕士研究生"},{"$f":"VLOOKUP(E7,[1]Sheet1!$A:$T,20,0)","v":"硕士学位"},"\\","香港教育大学"]
[5,"广州市花都区第一中学","高中语文教师","B044","汤秀玲",20240204936,"学科教学（语文）",{"$f":"VLOOKUP(E8,[1]Sheet1!$A:$T,19,0)","v":"硕士研究生"},{"$f":"VLOOKUP(E8,[1]Sheet1!$A:$T,20,0)","v":"硕士学位"},"\\","赣南师范大学"]
[6,"广州市花都区第一中学","高中英语教师","B047","卓林韵",20240309508,"语言学（翻译及传译）",{"$f":"VLOOKUP(E9,[1]Sheet1!$A:$T,19,0)","v":"硕士研究生"},{"$f":"VLOOKUP(E9,[1]Sheet1!$A:$T,20,0)","v":"硕士学位"},"\\","香港城市大学"]
[7,"广州市花都区第二中学","高中英语教师","B051","谭月溶",20240414023,"应用语言学与对外英语教学",{"$f":"VLOOKUP(E10,[1]Sheet1!$A:$T,19,0)","v":"硕士研究生"},{"$f":"VLOOKUP(E10,[1]Sheet1!$A:$T,20,0)","v":"硕士学位"},"\\","英国谢菲尔德大学"]
[8,"广大附中花都学校","初中化学教师","B056","毕紫君",20241933418,"化学（师范）",{"$f":"VLOOKUP(E11,[1]Sheet1!$A:$T,19,0)","v":"全日制本科"},{"$f":"VLOOKUP(E11,[1]Sheet1!$A:$T,20,0)","v":"学士学位"},"\\","华南师范大学"]
[9,"广州市花都区秀全\n外国语学校","小学语文教师","B061","黄诗妍",20240102540,"汉语言文学",{"$f":"VLOOKUP(E12,[1]Sheet1!$A:$T,19,0)","v":"全日制本科"},{"$f":"VLOOKUP(E12,[1]Sheet1!$A:$T,20,0)","v":"学士学位"},"\\","广东海洋大学"]
[10,"广州市花都区炭步镇炭步初级中学","初中政治教师","B091","曾蕊",20242435727,"思想政治教育",{"$f":"VLOOKUP(E13,[1]Sheet1!$A:$T,19,0)","v":"全日制本科"},{"$f":"VLOOKUP(E13,[1]Sheet1!$A:$T,20,0)","v":"学士学位"},"\\","韩山师范学院"]
[11,"广州市花都区炭步镇第二小学","小学英语教师","B099","旷洁馨",20240310620,"英语",{"$f":"VLOOKUP(E14,[1]Sheet1!$A:$T,19,0)","v":"全日制本科"},{"$f":"VLOOKUP(E14,[1]Sheet1!$A:$T,20,0)","v":"学士学位"},"\\","湖南第一师范学院"]
[12,"广州市花都区赤坭镇赤坭圩小学","小学美术教师","B100","吴志凯",20241630527,"绘画",{"$f":"VLOOKUP(E15,[1]Sheet1!$A:$T,19,0)","v":"全日制本科"},{"$f":"VLOOKUP(E15,[1]Sheet1!$A:$T,20,0)","v":"学士学位"},"\\","海南师范大学"]
[13,"广州市花都区花东镇联安初级中学","初中语文教师","B110","王帅",20240205019,"汉语言文学",{"$f":"VLOOKUP(E16,[1]Sheet1!$A:$T,19,0)","v":"全日制本科"},{"$f":"VLOOKUP(E16,[1]Sheet1!$A:$T,20,0)","v":"学士学位"},"\\","江西师范大学"]
[14,"广州市花都区花山镇华侨初级中学","初中英语教师","B114","吴厚霖",20240415417,"英语",{"$f":"VLOOKUP(E17,[1]Sheet1!$A:$T,19,0)","v":"全日制本科"},{"$f":"VLOOKUP(E17,[1]Sheet1!$A:$T,20,0)","v":"学士学位"},"\\","广东金融学院"]
[15,"广州市花都区狮岭镇狮峰初级中学","初中数学教师","B115","郭小珍",20240719942,"数学与应用数学",{"$f":"VLOOKUP(E18,[1]Sheet1!$A:$T,19,0)","v":"全日制本科"},{"$f":"VLOOKUP(E18,[1]Sheet1!$A:$T,20,0)","v":"学士学位"},"\\","江西师范大学"]
[16,"广州市花都区花山镇花山初级中学","初中历史教师","B118","袁彩聂",20241323907,"历史学",{"$f":"VLOOKUP(E19,[1]Sheet1!$A:$T,19,0)","v":"全日制本科"},{"$f":"VLOOKUP(E19,[1]Sheet1!$A:$T,20,0)","v":"学士学位"},"\\","岭南师范学院"]
[17,"广州市花都区狮岭镇芙蓉初级中学","初中物理教师","B119","李罗成",20241121505,"环境工程",{"$f":"VLOOKUP(E20,[1]Sheet1!$A:$T,19,0)","v":"全日制本科"},{"$f":"VLOOKUP(E20,[1]Sheet1!$A:$T,20,0)","v":"学士学位"},"初中物理二级教师","肇庆学院","以专业技术职称报考"]
[18,"广州市花都区梯面镇梯面小学","小学语文教师","B123","张秋敏",20240104733,"应用化学",{"$f":"VLOOKUP(E21,[1]Sheet1!$A:$T,19,0)","v":"全日制本科"},{"$f":"VLOOKUP(E21,[1]Sheet1!$A:$T,20,0)","v":"学士学位"},"小学语文二级教师","嘉应学院","以专业技术职称报考"]
[19,"广州市花都区新华街培新学校","初中语文教师","B129","王颖",20240206004,"新闻学",{"$f":"VLOOKUP(E22,[1]Sheet1!$A:$T,19,0)","v":"全日制本科"},{"$f":"VLOOKUP(E22,[1]Sheet1!$A:$T,20,0)","v":"学士学位"},"初中语文二级教师","电子科技大学中山学院","以专业技术职称报考"]
[20,"广州市花都区新华街金华学校","小学语文教师","B132","徐世杰",20240206213,"国际经济与贸易",{"$f":"VLOOKUP(E23,[1]Sheet1!$A:$T,19,0)","v":"全日制本科"},{"$f":"VLOOKUP(E23,[1]Sheet1!$A:$T,20,0)","v":"学士学位"},"小学语文二级教师","广东理工学院","以专业技术职称报考"]
[21,"广州市花都区新雅街镜湖学校","小学体育教师","B143","邓金钊",20241528812,"体育教育",{"$f":"VLOOKUP(E24,[1]Sheet1!$A:$T,19,0)","v":"全日制本科"},{"$f":"VLOOKUP(E24,[1]Sheet1!$A:$T,20,0)","v":"学士学位"},"\\","贺州学院"]
[22,"广州市花都区新雅街清㘵初级中学","初中语文教师","B144","邓香玉",20240206606,"汉语国际教育",{"$f":"VLOOKUP(E25,[1]Sheet1!$A:$T,19,0)","v":"全日制本科"},{"$f":"VLOOKUP(E25,[1]Sheet1!$A:$T,20,0)","v":"学士学位"},"\\","华侨大学"]
[23,"广州市花都区新雅街清㘵初级中学","初中数学教师","B145","古惠敏",20240720513,"劳动与社会保障",{"$f":"VLOOKUP(E26,[1]Sheet1!$A:$T,19,0)","v":"全日制本科"},{"$f":"VLOOKUP(E26,[1]Sheet1!$A:$T,20,0)","v":"学士学位"},"初中数学二级教师","华南农业大学","以专业技术职称报考"]
[24,"广州市花都区秀全街\n九潭初级中学","初中数学教师","B147","刘晓楠",20240720828,"数学与应用数学",{"$f":"VLOOKUP(E27,[1]Sheet1!$A:$T,19,0)","v":"全日制本科"},{"$f":"VLOOKUP(E27,[1]Sheet1!$A:$T,20,0)","v":"学士学位"},"\\","天津师范大学"]